BEGIN:VCALENDAR
VERSION:2.0
PRODID:-//ENS - ECPv6.15.12.2//NONSGML v1.0//EN
CALSCALE:GREGORIAN
METHOD:PUBLISH
X-WR-CALNAME:ENS
X-ORIGINAL-URL:https://negotiate.org
X-WR-CALDESC:Events for ENS
REFRESH-INTERVAL;VALUE=DURATION:PT1H
X-Robots-Tag:noindex
X-PUBLISHED-TTL:PT1H
BEGIN:VTIMEZONE
TZID:Australia/Brisbane
BEGIN:STANDARD
TZOFFSETFROM:+1000
TZOFFSETTO:+1000
TZNAME:AEST
DTSTART:20250101T000000
END:STANDARD
END:VTIMEZONE
BEGIN:VEVENT
DTSTART;VALUE=DATE:20260319
DTEND;VALUE=DATE:20260321
DTSTAMP:20260424T183213
CREATED:20251210T054741Z
LAST-MODIFIED:20260121T035826Z
UID:235056-1773878400-1774051199@negotiate.org
SUMMARY:BRISBANE: Module 2 - Strategic
DESCRIPTION:The Strategic Negotiation & Influencing course is an empowering and intensive 2-day workshop allowing you to simplify complex negotiations. Employing the ENS International Systematic Preparation Framework and advanced techniques you will gain further insight on how to read other parties\, counter tactics\, manage the different stages of a negotiation and confidently develop strategy to improve your negotiation outcomes on high stakes negotiations or projects. All fees quoted will have local taxes added at point of payment. 								\n				\n				\n				\n									\n					\n						\n									Enquire Now\n					\n					\n				\n								\n				\n				\n				\n							\n			\n		\n						\n				\n				\n				\n							\n			\n									Sessions\n									Facilitators\n									Pricing\n							\n			\n									Sessions\n					BRISBANE: Strategic Negotiation & Influencing 19-20 March 2026March 19. 2026 9:00 – March 20\, 2026 17:00 (GMT+10:00) \n									Facilitators\n					Leah CorbettENS Strategist\n									Pricing\n					Brisbane: Strategic Negotiation & Influencing 19-20 March 2026 AUD $2675 (excl. GST)
URL:https://negotiate.org/schedule/brisbane-module-2-strategic-7/
LOCATION:Cliftons Brisbane\, 24/288 Edward Street\, Brisbane\, QLD\, 4000\, Australia
ATTACH;FMTTYPE=image/png:https://negotiate.org/wp-content/uploads/2022/09/Test1_ImageOnly.png
END:VEVENT
END:VCALENDAR